Workbook
Name bakpoeder: aantal!$C$7
Name bloem: aantal!$C$2
Name boter: aantal!$C$4
Name eieren: aantal!$C$5
Name omzet: aantal!$H$1
Name overzicht: aantal!$C$5
Name prijs_bakpoeder: aantal!$B$7
Name prijs_bloem: aantal!$B$2
Name prijs_boter: aantal!$B$4
Name prijs_eieren: aantal!$B$5
Name prijs_suiker: aantal!$B$3
Name prijs_vanille: aantal!$B$8
Name prijs_zakjes: aantal!$B$9
Name prijs_zout: aantal!$B$6
Name suiker: aantal!$C$3
Name vanille: aantal!$C$8
Name zakjes: aantal!$C$9
Name zout: aantal!$C$6

Sheet aantal
B1: prijs | C1: nodig per eenheid | D1: kostprijs per eenheid | F1: 1 eenheid | G1: minstens 30 koekjes | H1: 5 | I1: (omzet) | R1: kost | S1: omzet | T1: winst
A2: bloem (per kilo) | B2: 0.45 | C2: 0.2 | D2: =prijs_bloem*bloem -> 0.09 | G2: minstens 6 koekjes per zakje
A3: suiker (per kilo) | B3: 0.8 | C3: 0.1 | D3: =prijs_suiker*suiker -> 0.08
A4: boter (per 250 gr) | B4: 1.35 | C4: 0.33 | D4: =prijs_boter*boter -> 0.4455
A5: eieren per 6 | B5: 1.19 | C5: 0.2 | D5: =prijs_eieren*eieren -> 0.238
A6: zout (per kilo) | B6: 0.35 | C6: 0.002 | D6: =prijs_zout*zout -> 0.0007
A7: bakpoeder (per 80 gr) | B7: 0.59 | C7: 0.025 | D7: =prijs_bakpoeder*bakpoeder -> 0.01475
A8: vanille aroma (per 38 ml) | B8: 1.09 | C8: 0.05 | D8: =prijs_vanille*vanille -> 0.0545
A9: zakjes (per 100) | B9: 7 | C9: 0.05 | D9: =prijs_zakjes*zakjes -> 0.35

Sheet tabel
A1: eenheid | B1: bloem | C1: suiker | D1: boter | E1: eieren | F1: zout | G1: bakpoeder | H1: vanille | I1: zakjes | J1: prijs bloem | K1: prijs suiker | L1: prijs boter | M1: prijs eieren | N1: prijs zout | O1: prijs bakpoeder | P1: prijs vanille | Q1: prijs zakjes | R1: kost | S1: omzet | T1: winst
A2: 1 | B2: =A2*bloem -> 0.2 | C2: =A2*suiker -> 0.1 | D2: =A2*boter -> 0.33 | E2: =A2*eieren -> 0.2 | F2: =A2*zout -> 0.002 | G2: =A2*bakpoeder -> 0.025 | H2: =A2*vanille -> 0.05 | I2: =A2*zakjes -> 0.05 | J2: =ROUNDUP(B2,0)*prijs_bloem -> 0.45 | K2: =ROUNDUP(C2,0)*prijs_suiker -> 0.8 | L2: =ROUNDUP(D2,0)*prijs_boter -> 1.35 | M2: =ROUNDUP(E2,0)*prijs_eieren -> 1.19 | N2: =ROUNDUP(F2,0)*prijs_zout -> 0.35 | O2: =ROUNDUP(G2,0)*prijs_bakpoeder -> 0.59 | P2: =ROUNDUP(H2,0)*prijs_vanille -> 1.09 | Q2: =ROUNDUP(I2,0)*prijs_zakjes -> 7 | R2: =SUM(J2:Q2) -> 12.82 | S2: =A2*omzet -> 5 | T2: =S2-R2 -> -7.82
A3: 2 | B3: =A3*aantal!$C$2 -> 0.4 | C3: =A3*aantal!$C$3 -> 0.2 | D3: =A3*aantal!$C$4 -> 0.66 | E3: =A3*aantal!$C$5 -> 0.4 | F3: =A3*aantal!$C$6 -> 0.004 | G3: =A3*aantal!$C$7 -> 0.05 | H3: =A3*aantal!$C$8 -> 0.1 | I3: =A3*aantal!$C$9 -> 0.1 | J3: =ROUNDUP(B3,0)*prijs_bloem -> 0.45 | K3: =ROUNDUP(C3,0)*prijs_suiker -> 0.8 | L3: =ROUNDUP(D3,0)*prijs_boter -> 1.35 | M3: =ROUNDUP(E3,0)*prijs_eieren -> 1.19 | N3: =ROUNDUP(F3,0)*prijs_zout -> 0.35 | O3: =ROUNDUP(G3,0)*prijs_bakpoeder -> 0.59 | P3: =ROUNDUP(H3,0)*prijs_vanille -> 1.09 | Q3: =ROUNDUP(I3,0)*prijs_zakjes -> 7 | R3: =SUM(J3:Q3) -> 12.82 | S3: =A3*omzet -> 10 | T3: =S3-R3 -> -2.82
A4: 3 | B4: =A4*aantal!$C$2 -> 0.6 | C4: =A4*aantal!$C$3 -> 0.3 | D4: =A4*aantal!$C$4 -> 0.99 | E4: =A4*aantal!$C$5 -> 0.6 | F4: =A4*aantal!$C$6 -> 0.006 | G4: =A4*aantal!$C$7 -> 0.075 | H4: =A4*aantal!$C$8 -> 0.15 | I4: =A4*aantal!$C$9 -> 0.15 | J4: =ROUNDUP(B4,0)*prijs_bloem -> 0.45 | K4: =ROUNDUP(C4,0)*prijs_suiker -> 0.8 | L4: =ROUNDUP(D4,0)*prijs_boter -> 1.35 | M4: =ROUNDUP(E4,0)*prijs_eieren -> 1.19 | N4: =ROUNDUP(F4,0)*prijs_zout -> 0.35 | O4: =ROUNDUP(G4,0)*prijs_bakpoeder -> 0.59 | P4: =ROUNDUP(H4,0)*prijs_vanille -> 1.09 | Q4: =ROUNDUP(I4,0)*prijs_zakjes -> 7 | R4: =SUM(J4:Q4) -> 12.82 | S4: =A4*omzet -> 15 | T4: =S4-R4 -> 2.18
A5: 4 | B5: =A5*aantal!$C$2 -> 0.8 | C5: =A5*aantal!$C$3 -> 0.4 | D5: =A5*aantal!$C$4 -> 1.32 | E5: =A5*aantal!$C$5 -> 0.8 | F5: =A5*aantal!$C$6 -> 0.008 | G5: =A5*aantal!$C$7 -> 0.1 | H5: =A5*aantal!$C$8 -> 0.2 | I5: =A5*aantal!$C$9 -> 0.2 | J5: =ROUNDUP(B5,0)*prijs_bloem -> 0.45 | K5: =ROUNDUP(C5,0)*prijs_suiker -> 0.8 | L5: =ROUNDUP(D5,0)*prijs_boter -> 2.7 | M5: =ROUNDUP(E5,0)*prijs_eieren -> 1.19 | N5: =ROUNDUP(F5,0)*prijs_zout -> 0.35 | O5: =ROUNDUP(G5,0)*prijs_bakpoeder -> 0.59 | P5: =ROUNDUP(H5,0)*prijs_vanille -> 1.09 | Q5: =ROUNDUP(I5,0)*prijs_zakjes -> 7 | R5: =SUM(J5:Q5) -> 14.17 | S5: =A5*omzet -> 20 | T5: =S5-R5 -> 5.83
A6: 5 | B6: =A6*aantal!$C$2 -> 1 | C6: =A6*aantal!$C$3 -> 0.5 | D6: =A6*aantal!$C$4 -> 1.65 | E6: =A6*aantal!$C$5 -> 1 | F6: =A6*aantal!$C$6 -> 0.01 | G6: =A6*aantal!$C$7 -> 0.125 | H6: =A6*aantal!$C$8 -> 0.25 | I6: =A6*aantal!$C$9 -> 0.25 | J6: =ROUNDUP(B6,0)*prijs_bloem -> 0.45 | K6: =ROUNDUP(C6,0)*prijs_suiker -> 0.8 | L6: =ROUNDUP(D6,0)*prijs_boter -> 2.7 | M6: =ROUNDUP(E6,0)*prijs_eieren -> 1.19 | N6: =ROUNDUP(F6,0)*prijs_zout -> 0.35 | O6: =ROUNDUP(G6,0)*prijs_bakpoeder -> 0.59 | P6: =ROUNDUP(H6,0)*prijs_vanille -> 1.09 | Q6: =ROUNDUP(I6,0)*prijs_zakjes -> 7 | R6: =SUM(J6:Q6) -> 14.17 | S6: =A6*omzet -> 25 | T6: =S6-R6 -> 10.83
A7: 6 | B7: =A7*aantal!$C$2 -> 1.2 | C7: =A7*aantal!$C$3 -> 0.6 | D7: =A7*aantal!$C$4 -> 1.98 | E7: =A7*aantal!$C$5 -> 1.2 | F7: =A7*aantal!$C$6 -> 0.012 | G7: =A7*aantal!$C$7 -> 0.15 | H7: =A7*aantal!$C$8 -> 0.3 | I7: =A7*aantal!$C$9 -> 0.3 | J7: =ROUNDUP(B7,0)*prijs_bloem -> 0.9 | K7: =ROUNDUP(C7,0)*prijs_suiker -> 0.8 | L7: =ROUNDUP(D7,0)*prijs_boter -> 2.7 | M7: =ROUNDUP(E7,0)*prijs_eieren -> 2.38 | N7: =ROUNDUP(F7,0)*prijs_zout -> 0.35 | O7: =ROUNDUP(G7,0)*prijs_bakpoeder -> 0.59 | P7: =ROUNDUP(H7,0)*prijs_vanille -> 1.09 | Q7: =ROUNDUP(I7,0)*prijs_zakjes -> 7 | R7: =SUM(J7:Q7) -> 15.81 | S7: =A7*omzet -> 30 | T7: =S7-R7 -> 14.19
A8: 7 | B8: =A8*aantal!$C$2 -> 1.4 | C8: =A8*aantal!$C$3 -> 0.7 | D8: =A8*aantal!$C$4 -> 2.31 | E8: =A8*aantal!$C$5 -> 1.4 | F8: =A8*aantal!$C$6 -> 0.014 | G8: =A8*aantal!$C$7 -> 0.175 | H8: =A8*aantal!$C$8 -> 0.35 | I8: =A8*aantal!$C$9 -> 0.35 | J8: =ROUNDUP(B8,0)*prijs_bloem -> 0.9 | K8: =ROUNDUP(C8,0)*prijs_suiker -> 0.8 | L8: =ROUNDUP(D8,0)*prijs_boter -> 4.05 | M8: =ROUNDUP(E8,0)*prijs_eieren -> 2.38 | N8: =ROUNDUP(F8,0)*prijs_zout -> 0.35 | O8: =ROUNDUP(G8,0)*prijs_bakpoeder -> 0.59 | P8: =ROUNDUP(H8,0)*prijs_vanille -> 1.09 | Q8: =ROUNDUP(I8,0)*prijs_zakjes -> 7 | R8: =SUM(J8:Q8) -> 17.16 | S8: =A8*omzet -> 35 | T8: =S8-R8 -> 17.84
A9: 8 | B9: =A9*aantal!$C$2 -> 1.6 | C9: =A9*aantal!$C$3 -> 0.8 | D9: =A9*aantal!$C$4 -> 2.64 | E9: =A9*aantal!$C$5 -> 1.6 | F9: =A9*aantal!$C$6 -> 0.016 | G9: =A9*aantal!$C$7 -> 0.2 | H9: =A9*aantal!$C$8 -> 0.4 | I9: =A9*aantal!$C$9 -> 0.4 | J9: =ROUNDUP(B9,0)*prijs_bloem -> 0.9 | K9: =ROUNDUP(C9,0)*prijs_suiker -> 0.8 | L9: =ROUNDUP(D9,0)*prijs_boter -> 4.05 | M9: =ROUNDUP(E9,0)*prijs_eieren -> 2.38 | N9: =ROUNDUP(F9,0)*prijs_zout -> 0.35 | O9: =ROUNDUP(G9,0)*prijs_bakpoeder -> 0.59 | P9: =ROUNDUP(H9,0)*prijs_vanille -> 1.09 | Q9: =ROUNDUP(I9,0)*prijs_zakjes -> 7 | R9: =SUM(J9:Q9) -> 17.16 | S9: =A9*omzet -> 40 | T9: =S9-R9 -> 22.84
A10: 9 | B10: =A10*aantal!$C$2 -> 1.8 | C10: =A10*aantal!$C$3 -> 0.9 | D10: =A10*aantal!$C$4 -> 2.97 | E10: =A10*aantal!$C$5 -> 1.8 | F10: =A10*aantal!$C$6 -> 0.018 | G10: =A10*aantal!$C$7 -> 0.225 | H10: =A10*aantal!$C$8 -> 0.45 | I10: =A10*aantal!$C$9 -> 0.45 | J10: =ROUNDUP(B10,0)*prijs_bloem -> 0.9 | K10: =ROUNDUP(C10,0)*prijs_suiker -> 0.8 | L10: =ROUNDUP(D10,0)*prijs_boter -> 4.05 | M10: =ROUNDUP(E10,0)*prijs_eieren -> 2.38 | N10: =ROUNDUP(F10,0)*prijs_zout -> 0.35 | O10: =ROUNDUP(G10,0)*prijs_bakpoeder -> 0.59 | P10: =ROUNDUP(H10,0)*prijs_vanille -> 1.09 | Q10: =ROUNDUP(I10,0)*prijs_zakjes -> 7 | R10: =SUM(J10:Q10) -> 17.16 | S10: =A10*omzet -> 45 | T10: =S10-R10 -> 27.84
A11: 10 | B11: =A11*aantal!$C$2 -> 2 | C11: =A11*aantal!$C$3 -> 1 | D11: =A11*aantal!$C$4 -> 3.3 | E11: =A11*aantal!$C$5 -> 2 | F11: =A11*aantal!$C$6 -> 0.02 | G11: =A11*aantal!$C$7 -> 0.25 | H11: =A11*aantal!$C$8 -> 0.5 | I11: =A11*aantal!$C$9 -> 0.5 | J11: =ROUNDUP(B11,0)*prijs_bloem -> 0.9 | K11: =ROUNDUP(C11,0)*prijs_suiker -> 0.8 | L11: =ROUNDUP(D11,0)*prijs_boter -> 5.4 | M11: =ROUNDUP(E11,0)*prijs_eieren -> 2.38 | N11: =ROUNDUP(F11,0)*prijs_zout -> 0.35 | O11: =ROUNDUP(G11,0)*prijs_bakpoeder -> 0.59 | P11: =ROUNDUP(H11,0)*prijs_vanille -> 1.09 | Q11: =ROUNDUP(I11,0)*prijs_zakjes -> 7 | R11: =SUM(J11:Q11) -> 18.51 | S11: =A11*omzet -> 50 | T11: =S11-R11 -> 31.49
A12: 11 | B12: =A12*aantal!$C$2 -> 2.2 | C12: =A12*aantal!$C$3 -> 1.1 | D12: =A12*aantal!$C$4 -> 3.63 | E12: =A12*aantal!$C$5 -> 2.2 | F12: =A12*aantal!$C$6 -> 0.022 | G12: =A12*aantal!$C$7 -> 0.275 | H12: =A12*aantal!$C$8 -> 0.55 | I12: =A12*aantal!$C$9 -> 0.55 | J12: =ROUNDUP(B12,0)*prijs_bloem -> 1.35 | K12: =ROUNDUP(C12,0)*prijs_suiker -> 1.6 | L12: =ROUNDUP(D12,0)*prijs_boter -> 5.4 | M12: =ROUNDUP(E12,0)*prijs_eieren -> 3.57 | N12: =ROUNDUP(F12,0)*prijs_zout -> 0.35 | O12: =ROUNDUP(G12,0)*prijs_bakpoeder -> 0.59 | P12: =ROUNDUP(H12,0)*prijs_vanille -> 1.09 | Q12: =ROUNDUP(I12,0)*prijs_zakjes -> 7 | R12: =SUM(J12:Q12) -> 20.95 | S12: =A12*omzet -> 55 | T12: =S12-R12 -> 34.05
A13: 12 | B13: =A13*aantal!$C$2 -> 2.4 | C13: =A13*aantal!$C$3 -> 1.2 | D13: =A13*aantal!$C$4 -> 3.96 | E13: =A13*aantal!$C$5 -> 2.4 | F13: =A13*aantal!$C$6 -> 0.024 | G13: =A13*aantal!$C$7 -> 0.3 | H13: =A13*aantal!$C$8 -> 0.6 | I13: =A13*aantal!$C$9 -> 0.6 | J13: =ROUNDUP(B13,0)*prijs_bloem -> 1.35 | K13: =ROUNDUP(C13,0)*prijs_suiker -> 1.6 | L13: =ROUNDUP(D13,0)*prijs_boter -> 5.4 | M13: =ROUNDUP(E13,0)*prijs_eieren -> 3.57 | N13: =ROUNDUP(F13,0)*prijs_zout -> 0.35 | O13: =ROUNDUP(G13,0)*prijs_bakpoeder -> 0.59 | P13: =ROUNDUP(H13,0)*prijs_vanille -> 1.09 | Q13: =ROUNDUP(I13,0)*prijs_zakjes -> 7 | R13: =SUM(J13:Q13) -> 20.95 | S13: =A13*omzet -> 60 | T13: =S13-R13 -> 39.05
A14: 13 | B14: =A14*aantal!$C$2 -> 2.6 | C14: =A14*aantal!$C$3 -> 1.3 | D14: =A14*aantal!$C$4 -> 4.29 | E14: =A14*aantal!$C$5 -> 2.6 | F14: =A14*aantal!$C$6 -> 0.026 | G14: =A14*aantal!$C$7 -> 0.325 | H14: =A14*aantal!$C$8 -> 0.65 | I14: =A14*aantal!$C$9 -> 0.65 | J14: =ROUNDUP(B14,0)*prijs_bloem -> 1.35 | K14: =ROUNDUP(C14,0)*prijs_suiker -> 1.6 | L14: =ROUNDUP(D14,0)*prijs_boter -> 6.75 | M14: =ROUNDUP(E14,0)*prijs_eieren -> 3.57 | N14: =ROUNDUP(F14,0)*prijs_zout -> 0.35 | O14: =ROUNDUP(G14,0)*prijs_bakpoeder -> 0.59 | P14: =ROUNDUP(H14,0)*prijs_vanille -> 1.09 | Q14: =ROUNDUP(I14,0)*prijs_zakjes -> 7 | R14: =SUM(J14:Q14) -> 22.3 | S14: =A14*omzet -> 65 | T14: =S14-R14 -> 42.7
... A41: 40 | B41: =A41*aantal!$C$2 -> 8 | C41: =A41*aantal!$C$3 -> 4 | D41: =A41*aantal!$C$4 -> 13.2 | E41: =A41*aantal!$C$5 -> 8 | F41: =A41*aantal!$C$6 -> 0.08 | G41: =A41*aantal!$C$7 -> 1 | H41: =A41*aantal!$C$8 -> 2 | I41: =A41*aantal!$C$9 -> 2 | J41: =ROUNDUP(B41,0)*prijs_bloem -> 3.6 | K41: =ROUNDUP(C41,0)*prijs_suiker -> 3.2 | L41: =ROUNDUP(D41,0)*prijs_boter -> 18.9 | M41: =ROUNDUP(E41,0)*prijs_eieren -> 9.52 | N41: =ROUNDUP(F41,0)*prijs_zout -> 0.35 | O41: =ROUNDUP(G41,0)*prijs_bakpoeder -> 0.59 | P41: =ROUNDUP(H41,0)*prijs_vanille -> 2.18 | Q41: =ROUNDUP(I41,0)*prijs_zakjes -> 14 | R41: =SUM(J41:Q41) -> 52.34 | S41: =A41*omzet -> 200 | T41: =S41-R41 -> 147.66
